BEGIN:VCALENDAR
VERSION:2.0
PRODID:icalendar-ruby
CALSCALE:GREGORIAN
METHOD:PUBLISH
BEGIN:VEVENT
DTSTAMP:20260423T184557Z
UID:8-979916@hollyhillphc.org
DTSTART:20261011T150000Z
DTEND:20261011T160000Z
CLASS:PUBLIC
CREATED:20260423T130201
DESCRIPTION:Sunday Worship Service
LAST-MODIFIED:20260423T130201
LOCATION:Ministry Center
SUMMARY:Sunday Worship Service
URL;VALUE=URI:https://hollyhillphc.org/events/sunday-worship-service/2026-1
 0-11
ATTACH;FILENAME=IMG_4260-preview.JPG;FMTTYPE=image/jpeg:https://dq5pwpg1q8r
 u0.cloudfront.net/2021/04/19/14/21/50/ce4be6eb-849d-4239-a199-e186b99f21a9
 /IMG_4260-preview.JPG
END:VEVENT
END:VCALENDAR
