BEGIN:VCALENDAR
VERSION:2.0
PRODID:icalendar-ruby
CALSCALE:GREGORIAN
METHOD:PUBLISH
BEGIN:VEVENT
DTSTAMP:20260424T001022Z
UID:8-981075@hollyhillphc.org
DTSTART:20261101T160000Z
DTEND:20261101T170000Z
CLASS:PUBLIC
CREATED:20260423T185247
DESCRIPTION:Sunday Worship Service
LAST-MODIFIED:20260423T185247
LOCATION:Ministry Center
SUMMARY:Sunday Worship Service
URL;VALUE=URI:https://hollyhillphc.org/events/sunday-worship-service/2026-1
 1-01
ATTACH;FILENAME=IMG_4260-preview.JPG;FMTTYPE=image/jpeg:https://dq5pwpg1q8r
 u0.cloudfront.net/2021/04/19/14/21/50/ce4be6eb-849d-4239-a199-e186b99f21a9
 /IMG_4260-preview.JPG
END:VEVENT
END:VCALENDAR
